BEGIN:VCALENDAR
VERSION:2.0
PRODID:-//217.160.0.197//NONSGML kigkonsult.se iCalcreator 2.26.9//
CALSCALE:GREGORIAN
METHOD:PUBLISH
X-FROM-URL:https://rueckenwohl.mechernich.online
X-WR-TIMEZONE:Europe/Berlin
BEGIN:VTIMEZONE
TZID:Europe/Berlin
X-LIC-LOCATION:Europe/Berlin
BEGIN:STANDARD
DTSTART:20251026T030000
TZOFFSETFROM:+0200
TZOFFSETTO:+0100
RDATE:20261025T030000
TZNAME:CET
END:STANDARD
BEGIN:DAYLIGHT
DTSTART:20260329T020000
TZOFFSETFROM:+0100
TZOFFSETTO:+0200
RDATE:20270328T020000
TZNAME:CEST
END:DAYLIGHT
END:VTIMEZONE
BEGIN:VEVENT
UID:ai1ec-142@rueckenwohl.mechernich.online
DTSTAMP:20260420T151959Z
CATEGORIES;LANGUAGE=de:Offene Stunde
CONTACT:
DESCRIPTION:<p><span style='font-family: helvetica\, arial\, sans-serif\;'>
 Eine 90-minütige Yoga-Stunde mit speziellen Übungen für Schultern\, Nacken
  und Rücken.</span></p>\n<p><span style='font-family: helvetica\, arial\, 
 sans-serif\;'>Sanfte Praxis\, mobilisiert und kräftigt die stützende Musku
 latur der Wirbelsäule\, löst Verspannungen und aktiviert den gesamten Bewe
 gungsapparat.</span></p>\n<p><span style='font-family: helvetica\, arial\,
  sans-serif\;'><strong>Yoga-Lehrerin:</strong> <a href='https://rueckenwoh
 l.mechernich.online/yogalehrer'>Natalia</a></span></p>
DTSTART;TZID=Europe/Berlin:20230420T183000
DTEND;TZID=Europe/Berlin:20230420T200000
EXDATE;TZID=Europe/Berlin:20210708T183000
EXDATE;TZID=Europe/Berlin:20210715T183000
EXDATE;TZID=Europe/Berlin:20220714T183000
EXDATE;TZID=Europe/Berlin:20220721T183000
EXDATE;TZID=Europe/Berlin:20220728T183000
EXDATE;TZID=Europe/Berlin:20220804T183000
EXDATE;TZID=Europe/Berlin:20230216T183000
EXDATE;TZID=Europe/Berlin:20230518T183000
EXDATE;TZID=Europe/Berlin:20230608T183000
EXDATE;TZID=Europe/Berlin:20230622T183000
EXDATE;TZID=Europe/Berlin:20230706T183000
EXDATE;TZID=Europe/Berlin:20230713T183000
EXDATE;TZID=Europe/Berlin:20230720T183000
EXDATE;TZID=Europe/Berlin:20230727T183000
EXDATE;TZID=Europe/Berlin:20230914T183000
EXDATE;TZID=Europe/Berlin:20231005T183000
EXDATE;TZID=Europe/Berlin:20231012T183000
EXDATE;TZID=Europe/Berlin:20231228T183000
EXDATE;TZID=Europe/Berlin:20240104T183000
EXDATE;TZID=Europe/Berlin:20240509T183000
EXDATE;TZID=Europe/Berlin:20240530T183000
EXDATE;TZID=Europe/Berlin:20240704T183000
EXDATE;TZID=Europe/Berlin:20240711T183000
EXDATE;TZID=Europe/Berlin:20240718T183000
EXDATE;TZID=Europe/Berlin:20240725T183000
EXDATE;TZID=Europe/Berlin:20240801T183000
EXDATE;TZID=Europe/Berlin:20240808T183000
EXDATE;TZID=Europe/Berlin:20240815T183000
EXDATE;TZID=Europe/Berlin:20240822T183000
EXDATE;TZID=Europe/Berlin:20240829T183000
EXDATE;TZID=Europe/Berlin:20241003T183000
EXDATE;TZID=Europe/Berlin:20241226T183000
EXDATE;TZID=Europe/Berlin:20250102T183000
EXDATE;TZID=Europe/Berlin:20250213T183000
EXDATE;TZID=Europe/Berlin:20250501T183000
EXDATE;TZID=Europe/Berlin:20250529T183000
EXDATE;TZID=Europe/Berlin:20250619T183000
EXDATE;TZID=Europe/Berlin:20250626T183000
EXDATE;TZID=Europe/Berlin:20250703T183000
EXDATE;TZID=Europe/Berlin:20250710T183000
EXDATE;TZID=Europe/Berlin:20250717T183000
EXDATE;TZID=Europe/Berlin:20250724T183000
EXDATE;TZID=Europe/Berlin:20250731T183000
EXDATE;TZID=Europe/Berlin:20250807T183000
EXDATE;TZID=Europe/Berlin:20250814T183000
EXDATE;TZID=Europe/Berlin:20250821T183000
EXDATE;TZID=Europe/Berlin:20250828T183000
EXDATE;TZID=Europe/Berlin:20250925T183000
EXDATE;TZID=Europe/Berlin:20251225T183000
EXDATE;TZID=Europe/Berlin:20260101T183000
EXDATE;TZID=Europe/Berlin:20260430T183000
EXDATE;TZID=Europe/Berlin:20260514T183000
EXDATE;TZID=Europe/Berlin:20261224T183000
EXDATE;TZID=Europe/Berlin:20261231T183000
LOCATION:Rückenwohl Studio @ Mechernicher Straße 19 in 53894 Mechernich
RRULE:FREQ=WEEKLY;BYDAY=TH;WKST=MO
SEQUENCE:0
SUMMARY:Yoga für den Rücken mit Natalia
URL:https://rueckenwohl.mechernich.online/Veranstaltung/yoga-fuer-den-rueck
 en-mit-natalia
X-COST-TYPE:free
X-COST:siehe Preisübersicht
END:VEVENT
BEGIN:VEVENT
UID:ai1ec-140@rueckenwohl.mechernich.online
DTSTAMP:20260420T151959Z
CATEGORIES;LANGUAGE=de:Offene Stunde
CONTACT:
DESCRIPTION:<p><span style='font-family: helvetica\, arial\, sans-serif\;'>
 Eine 90-minütige Yoga-Stunde mit sanften fließenden Bewegungen\,.</span></
 p>\n<p><span style='font-family: helvetica\, arial\, sans-serif\;'>Diese S
 tunde ist für ALLE geeignet\, für Anfänger als auch Erfahrene\, für Ältere
  und Jüngere. Sie schafft einen Ausgleich zum stressigen Alltag und hilft\
 , mehr Energie und Positivität aufzubauen.</span></p>\n<p><span style='fon
 t-family: helvetica\, arial\, sans-serif\;'><strong>Yoga-Lehrerin:</strong
 > <a href='https://rueckenwohl.mechernich.online/yogalehrer'>Natalia</a></
 span></p>
DTSTART;TZID=Europe/Berlin:20230427T090000
DTEND;TZID=Europe/Berlin:20230427T103000
EXDATE;TZID=Europe/Berlin:20210708T090000
EXDATE;TZID=Europe/Berlin:20210715T090000
EXDATE;TZID=Europe/Berlin:20220714T090000
EXDATE;TZID=Europe/Berlin:20220721T090000
EXDATE;TZID=Europe/Berlin:20220728T090000
EXDATE;TZID=Europe/Berlin:20220804T090000
EXDATE;TZID=Europe/Berlin:20230216T090000
EXDATE;TZID=Europe/Berlin:20230518T090000
EXDATE;TZID=Europe/Berlin:20230608T090000
EXDATE;TZID=Europe/Berlin:20230706T090000
EXDATE;TZID=Europe/Berlin:20230713T090000
EXDATE;TZID=Europe/Berlin:20230720T090000
EXDATE;TZID=Europe/Berlin:20230727T090000
EXDATE;TZID=Europe/Berlin:20231005T090000
EXDATE;TZID=Europe/Berlin:20231012T090000
EXDATE;TZID=Europe/Berlin:20231228T090000
EXDATE;TZID=Europe/Berlin:20240104T090000
EXDATE;TZID=Europe/Berlin:20240509T090000
EXDATE;TZID=Europe/Berlin:20240530T090000
EXDATE;TZID=Europe/Berlin:20240704T090000
EXDATE;TZID=Europe/Berlin:20240711T090000
EXDATE;TZID=Europe/Berlin:20240718T090000
EXDATE;TZID=Europe/Berlin:20240725T090000
EXDATE;TZID=Europe/Berlin:20240801T090000
EXDATE;TZID=Europe/Berlin:20240808T090000
EXDATE;TZID=Europe/Berlin:20240815T090000
EXDATE;TZID=Europe/Berlin:20240822T090000
EXDATE;TZID=Europe/Berlin:20240829T090000
EXDATE;TZID=Europe/Berlin:20241003T090000
EXDATE;TZID=Europe/Berlin:20241226T090000
EXDATE;TZID=Europe/Berlin:20250102T090000
EXDATE;TZID=Europe/Berlin:20250213T090000
EXDATE;TZID=Europe/Berlin:20250501T090000
EXDATE;TZID=Europe/Berlin:20250529T090000
EXDATE;TZID=Europe/Berlin:20250619T090000
EXDATE;TZID=Europe/Berlin:20250626T090000
EXDATE;TZID=Europe/Berlin:20250703T090000
EXDATE;TZID=Europe/Berlin:20250710T090000
EXDATE;TZID=Europe/Berlin:20250717T090000
EXDATE;TZID=Europe/Berlin:20250724T090000
EXDATE;TZID=Europe/Berlin:20250731T090000
EXDATE;TZID=Europe/Berlin:20250807T090000
EXDATE;TZID=Europe/Berlin:20250814T090000
EXDATE;TZID=Europe/Berlin:20250821T090000
EXDATE;TZID=Europe/Berlin:20250828T090000
EXDATE;TZID=Europe/Berlin:20250925T090000
EXDATE;TZID=Europe/Berlin:20251225T090000
EXDATE;TZID=Europe/Berlin:20260101T090000
EXDATE;TZID=Europe/Berlin:20260430T090000
EXDATE;TZID=Europe/Berlin:20260514T090000
EXDATE;TZID=Europe/Berlin:20261224T090000
EXDATE;TZID=Europe/Berlin:20261231T090000
LOCATION:Rückenwohl Studio @ Mechernicher Straße 19 in 53894 Mechernich
RRULE:FREQ=WEEKLY;BYDAY=TH;WKST=MO
SEQUENCE:0
SUMMARY:Yoga sanft mit Natalia
URL:https://rueckenwohl.mechernich.online/Veranstaltung/yoga-sanft-mit-nata
 lia
X-COST-TYPE:free
X-COST:siehe Preisübersicht
END:VEVENT
BEGIN:VEVENT
UID:ai1ec-1134@rueckenwohl.mechernich.online
DTSTAMP:20260420T151959Z
CATEGORIES;LANGUAGE=de:Offene Stunde
CONTACT:
DESCRIPTION:<p><span style='font-family: helvetica\, arial\, sans-serif\;'>
 Eine 90-minütige Yoga-Stunde mit speziellen Übungen für Schultern\, Nacken
  und Rücken.</span></p>\n<p><span style='font-family: helvetica\, arial\, 
 sans-serif\;'>Sanfte Praxis\, mobilisiert und kräftigt die stützende Musku
 latur der Wirbelsäule\, löst Verspannungen und aktiviert den gesamten Bewe
 gungsapparat.</span></p>\n<p><span style='font-family: helvetica\, arial\,
  sans-serif\;'><strong>Yoga-Lehrerin:</strong> <a href='https://rueckenwoh
 l.mechernich.online/yogalehrer'>Natalia</a></span></p>
DTSTART;TZID=Europe/Berlin:20260303T183000
DTEND;TZID=Europe/Berlin:20260303T200000
LOCATION:Rückenwohl Studio @ Mechernicher Straße 19 in 53894 Mechernich
RRULE:FREQ=WEEKLY;BYDAY=TU;WKST=MO
SEQUENCE:0
SUMMARY:Yoga für den Rücken mit Natalia
URL:https://rueckenwohl.mechernich.online/Veranstaltung/yoga-fuer-den-rueck
 en-mit-natalia-2
X-COST-TYPE:free
X-TAGS;LANGUAGE=de:Termine\,Yogakurs
X-COST:siehe Preisübersicht
END:VEVENT
END:VCALENDAR
